BEGIN:VCALENDAR
METHOD:PUBLISH
VERSION:2.0
CALSCALE:GREGORIAN
PRODID:-//NONSGML Sandhills Development\, LLC//NONSGML Sugar Calendar Fe
 eds v3.6.1//EN
X-WR-CALNAME:9.00am Neurodiversity Meeting - Boardroom
X-WR-CALDESC:Liwara
X-WR-TIMEZONE:Australia/Perth
BEGIN:VTIMEZONE
TZID:Australia/Perth
BEGIN:STANDARD
TZOFFSETFROM:+0800
TZOFFSETTO:+0800
DTSTART:20241001T210000
TZNAME:AWST
END:STANDARD
END:VTIMEZONE
BEGIN:VTIMEZONE
TZID:Australia/Perth
BEGIN:STANDARD
TZOFFSETFROM:+0800
TZOFFSETTO:+0800
DTSTART:20241001T210000
TZNAME:AWST
END:STANDARD
END:VTIMEZONE
BEGIN:VEVENT
SUMMARY:9.00am Neurodiversity Meeting - Boardroom
DESCRIPTION:
URL;VALUE=URI:https://www.liwara.wa.edu.au/events/9-00am-neurodiversity-
 meeting-boardroom/
UID:urn:uuid:a8614e53-0040-4436-89e0-c46d4d5eafe0
STATUS:CONFIRMED
ORGANIZER:
DTSTAMP:20260422T122135Z
DTSTART;TZID=Australia/Perth:20250402T090000
DTEND;TZID=Australia/Perth:20250402T103000
END:VEVENT
END:VCALENDAR