BEGIN:VCALENDAR
METHOD:PUBLISH
VERSION:2.0
CALSCALE:GREGORIAN
PRODID:-//NONSGML Sandhills Development\, LLC//NONSGML Sugar Calendar Fe
 eds v3.6.1//EN
X-WR-CALNAME:All Saints' Feast Day Mass
X-WR-CALDESC:Liwara
X-WR-TIMEZONE:Australia/Perth
BEGIN:VTIMEZONE
TZID:Australia/Perth
BEGIN:STANDARD
TZOFFSETFROM:+0800
TZOFFSETTO:+0800
DTSTART:20210502T210000
TZNAME:AWST
END:STANDARD
END:VTIMEZONE
BEGIN:VTIMEZONE
TZID:Australia/Perth
BEGIN:STANDARD
TZOFFSETFROM:+0800
TZOFFSETTO:+0800
DTSTART:20210502T210000
TZNAME:AWST
END:STANDARD
END:VTIMEZONE
BEGIN:VEVENT
SUMMARY:All Saints' Feast Day Mass
DESCRIPTION:
URL;VALUE=URI:https://www.liwara.wa.edu.au/events/all-saints-feast-day-m
 ass/
UID:urn:uuid:2bd871a4-e1d4-4a10-95ba-d19882628f00
STATUS:CONFIRMED
ORGANIZER:
DTSTAMP:20260421T235440Z
DTSTART;TZID=Australia/Perth:20211101T090000
DTEND;TZID=Australia/Perth:20211101T090000
END:VEVENT
END:VCALENDAR