BEGIN:VCALENDAR
METHOD:PUBLISH
VERSION:2.0
CALSCALE:GREGORIAN
PRODID:-//NONSGML Sandhills Development\, LLC//NONSGML Sugar Calendar Fe
 eds v3.6.1//EN
X-WR-CALNAME:Anzac Day Public Holiday
X-WR-CALDESC:Liwara
X-WR-TIMEZONE:Australia/Perth
BEGIN:VTIMEZONE
TZID:Australia/Perth
BEGIN:STANDARD
TZOFFSETFROM:+0800
TZOFFSETTO:+0800
DTSTART:20211024T120000
TZNAME:AWST
END:STANDARD
END:VTIMEZONE
BEGIN:VTIMEZONE
TZID:Australia/Perth
BEGIN:STANDARD
TZOFFSETFROM:+0800
TZOFFSETTO:+0800
DTSTART:20211024T120000
TZNAME:AWST
END:STANDARD
END:VTIMEZONE
BEGIN:VEVENT
SUMMARY:Anzac Day Public Holiday
DESCRIPTION:
URL;VALUE=URI:https://www.liwara.wa.edu.au/events/anzac-day-public-holid
 ay-2/
UID:urn:uuid:c0ef466b-d002-4835-a985-7aef6c296e83
STATUS:CONFIRMED
ORGANIZER:
DTSTAMP:20260425T033802Z
DTSTART;VALUE=DATE:20220425
END:VEVENT
END:VCALENDAR