BEGIN:VCALENDAR
METHOD:PUBLISH
VERSION:2.0
CALSCALE:GREGORIAN
PRODID:-//NONSGML Sandhills Development\, LLC//NONSGML Sugar Calendar Fe
 eds v3.6.1//EN
X-WR-CALNAME:Anzac Day Service
X-WR-CALDESC:Liwara
X-WR-TIMEZONE:Australia/Perth
BEGIN:VTIMEZONE
TZID:Australia/Perth
BEGIN:STANDARD
TZOFFSETFROM:+0800
TZOFFSETTO:+0800
DTSTART:20211025T230000
TZNAME:AWST
END:STANDARD
END:VTIMEZONE
BEGIN:VTIMEZONE
TZID:Australia/Perth
BEGIN:STANDARD
TZOFFSETFROM:+0800
TZOFFSETTO:+0800
DTSTART:20211025T230000
TZNAME:AWST
END:STANDARD
END:VTIMEZONE
BEGIN:VEVENT
SUMMARY:Anzac Day Service
DESCRIPTION:
URL;VALUE=URI:https://www.liwara.wa.edu.au/events/anzac-day-service-2/
UID:urn:uuid:2e00c0d8-b0b5-4d0a-8089-846271e97b27
STATUS:CONFIRMED
ORGANIZER:
DTSTAMP:20260425T033925Z
DTSTART;TZID=Australia/Perth:20220426T110000
DTEND;TZID=Australia/Perth:20220426T110000
END:VEVENT
END:VCALENDAR