BEGIN:VCALENDAR
METHOD:PUBLISH
VERSION:2.0
CALSCALE:GREGORIAN
PRODID:-//NONSGML Sandhills Development\, LLC//NONSGML Sugar Calendar Fe
 eds v3.6.1//EN
X-WR-CALNAME:Book Week Parade
X-WR-CALDESC:Liwara
X-WR-TIMEZONE:Australia/Perth
BEGIN:VTIMEZONE
TZID:Australia/Perth
BEGIN:STANDARD
TZOFFSETFROM:+0800
TZOFFSETTO:+0800
DTSTART:20230220T120000
TZNAME:AWST
END:STANDARD
END:VTIMEZONE
BEGIN:VTIMEZONE
TZID:Australia/Perth
BEGIN:STANDARD
TZOFFSETFROM:+0800
TZOFFSETTO:+0800
DTSTART:20230220T120000
TZNAME:AWST
END:STANDARD
END:VTIMEZONE
BEGIN:VEVENT
SUMMARY:Book Week Parade
DESCRIPTION:
URL;VALUE=URI:https://www.liwara.wa.edu.au/events/book-week-parade-3/
UID:urn:uuid:32deceb4-d6c8-40f3-a44e-2e65b46fe06d
STATUS:CONFIRMED
ORGANIZER:
DTSTAMP:20260423T085503Z
DTSTART;TZID=Australia/Perth:20230822T000000
DTEND;TZID=Australia/Perth:20230822T000000
END:VEVENT
END:VCALENDAR