BEGIN:VCALENDAR
METHOD:PUBLISH
VERSION:2.0
CALSCALE:GREGORIAN
PRODID:-//NONSGML Sandhills Development\, LLC//NONSGML Sugar Calendar Fe
 eds v3.6.1//EN
X-WR-CALNAME:Book Week
X-WR-CALDESC:Liwara
X-WR-TIMEZONE:Australia/Perth
BEGIN:VTIMEZONE
TZID:Australia/Perth
BEGIN:STANDARD
TZOFFSETFROM:+0800
TZOFFSETTO:+0800
DTSTART:20220218T120000
TZNAME:AWST
END:STANDARD
END:VTIMEZONE
BEGIN:VTIMEZONE
TZID:Australia/Perth
BEGIN:STANDARD
TZOFFSETFROM:+0800
TZOFFSETTO:+0800
DTSTART:20220218T120000
TZNAME:AWST
END:STANDARD
END:VTIMEZONE
BEGIN:VEVENT
SUMMARY:Book Week
DESCRIPTION:
URL;VALUE=URI:https://www.liwara.wa.edu.au/events/book-week/
UID:urn:uuid:7e6dd022-8b66-48bb-a9f9-92b7719d2fa3
STATUS:CONFIRMED
ORGANIZER:
DTSTAMP:20260424T172605Z
DTSTART;TZID=Australia/Perth:20220820T000000
DTEND;TZID=Australia/Perth:20220826T000000
END:VEVENT
END:VCALENDAR