BEGIN:VCALENDAR
METHOD:PUBLISH
VERSION:2.0
CALSCALE:GREGORIAN
PRODID:-//NONSGML Sandhills Development\, LLC//NONSGML Sugar Calendar Fe
 eds v3.6.1//EN
X-WR-CALNAME:Certificate Assembly
X-WR-CALDESC:Liwara
X-WR-TIMEZONE:Australia/Perth
BEGIN:VTIMEZONE
TZID:Australia/Perth
BEGIN:STANDARD
TZOFFSETFROM:+0800
TZOFFSETTO:+0800
DTSTART:20211112T022000
TZNAME:AWST
END:STANDARD
END:VTIMEZONE
BEGIN:VTIMEZONE
TZID:Australia/Perth
BEGIN:STANDARD
TZOFFSETFROM:+0800
TZOFFSETTO:+0800
DTSTART:20211112T022000
TZNAME:AWST
END:STANDARD
END:VTIMEZONE
BEGIN:VEVENT
SUMMARY:Certificate Assembly
DESCRIPTION:
URL;VALUE=URI:https://www.liwara.wa.edu.au/events/certificate-assembly-2
 7/
UID:urn:uuid:ed0b0b44-0b57-4da1-9e74-5aa889714400
STATUS:CONFIRMED
ORGANIZER:
DTSTAMP:20260425T022027Z
DTSTART;TZID=Australia/Perth:20220513T142000
DTEND;TZID=Australia/Perth:20220513T142000
END:VEVENT
END:VCALENDAR