BEGIN:VCALENDAR
METHOD:PUBLISH
VERSION:2.0
CALSCALE:GREGORIAN
PRODID:-//NONSGML Sandhills Development\, LLC//NONSGML Sugar Calendar Fe
 eds v3.6.1//EN
X-WR-CALNAME:Certificate Assembly
X-WR-CALDESC:Liwara
X-WR-TIMEZONE:Australia/Perth
BEGIN:VTIMEZONE
TZID:Australia/Perth
BEGIN:STANDARD
TZOFFSETFROM:+0800
TZOFFSETTO:+0800
DTSTART:20220218T023000
TZNAME:AWST
END:STANDARD
END:VTIMEZONE
BEGIN:VTIMEZONE
TZID:Australia/Perth
BEGIN:STANDARD
TZOFFSETFROM:+0800
TZOFFSETTO:+0800
DTSTART:20220218T023000
TZNAME:AWST
END:STANDARD
END:VTIMEZONE
BEGIN:VEVENT
SUMMARY:Certificate Assembly
DESCRIPTION:
URL;VALUE=URI:https://www.liwara.wa.edu.au/events/certificate-assembly-3
 4/
UID:urn:uuid:e7436c71-43fe-4b8c-a633-65449aab65aa
STATUS:CONFIRMED
ORGANIZER:
DTSTAMP:20260424T170713Z
DTSTART;TZID=Australia/Perth:20220819T143000
DTEND;TZID=Australia/Perth:20220819T143000
END:VEVENT
END:VCALENDAR