BEGIN:VCALENDAR
METHOD:PUBLISH
VERSION:2.0
CALSCALE:GREGORIAN
PRODID:-//NONSGML Sandhills Development\, LLC//NONSGML Sugar Calendar Fe
 eds v3.6.1//EN
X-WR-CALNAME:Communion Certificate Masses
X-WR-CALDESC:Liwara
X-WR-TIMEZONE:Australia/Perth
BEGIN:VTIMEZONE
TZID:Australia/Perth
BEGIN:STANDARD
TZOFFSETFROM:+0800
TZOFFSETTO:+0800
DTSTART:20211225T120000
TZNAME:AWST
END:STANDARD
END:VTIMEZONE
BEGIN:VTIMEZONE
TZID:Australia/Perth
BEGIN:STANDARD
TZOFFSETFROM:+0800
TZOFFSETTO:+0800
DTSTART:20211225T120000
TZNAME:AWST
END:STANDARD
END:VTIMEZONE
BEGIN:VEVENT
SUMMARY:Communion Certificate Masses
DESCRIPTION:
URL;VALUE=URI:https://www.liwara.wa.edu.au/events/communion-certificate-
 masses-4/
UID:urn:uuid:9b52aa0f-7b54-40a4-a508-e205f448024e
STATUS:CONFIRMED
ORGANIZER:
DTSTAMP:20260424T213631Z
DTSTART;VALUE=DATE:20220626
END:VEVENT
END:VCALENDAR