BEGIN:VCALENDAR
METHOD:PUBLISH
VERSION:2.0
CALSCALE:GREGORIAN
PRODID:-//NONSGML Sandhills Development\, LLC//NONSGML Sugar Calendar Fe
 eds v3.6.1//EN
X-WR-CALNAME:Communion Masses 9:30 & 5:30
X-WR-CALDESC:Liwara
X-WR-TIMEZONE:Australia/Perth
BEGIN:VTIMEZONE
TZID:Australia/Perth
BEGIN:STANDARD
TZOFFSETFROM:+0800
TZOFFSETTO:+0800
DTSTART:20211218T213000
TZNAME:AWST
END:STANDARD
END:VTIMEZONE
BEGIN:VTIMEZONE
TZID:Australia/Perth
BEGIN:STANDARD
TZOFFSETFROM:+0800
TZOFFSETTO:+0800
DTSTART:20211218T213000
TZNAME:AWST
END:STANDARD
END:VTIMEZONE
BEGIN:VEVENT
SUMMARY:Communion Masses 9:30 & 5:30
DESCRIPTION:
URL;VALUE=URI:https://www.liwara.wa.edu.au/events/communion-masses-930-5
 30-2/
UID:urn:uuid:22aebdd4-f451-46f0-a623-61ab0b5ef5c5
STATUS:CONFIRMED
ORGANIZER:
DTSTAMP:20260424T230542Z
DTSTART;TZID=Australia/Perth:20220619T093000
DTEND;TZID=Australia/Perth:20220619T093000
END:VEVENT
END:VCALENDAR