BEGIN:VCALENDAR
METHOD:PUBLISH
VERSION:2.0
CALSCALE:GREGORIAN
PRODID:-//NONSGML Sandhills Development\, LLC//NONSGML Sugar Calendar Fe
 eds v3.6.1//EN
X-WR-CALNAME:Communion Workshop
X-WR-CALDESC:Liwara
X-WR-TIMEZONE:Australia/Perth
BEGIN:VTIMEZONE
TZID:Australia/Perth
BEGIN:STANDARD
TZOFFSETFROM:+0800
TZOFFSETTO:+0800
DTSTART:20211118T060000
TZNAME:AWST
END:STANDARD
END:VTIMEZONE
BEGIN:VTIMEZONE
TZID:Australia/Perth
BEGIN:STANDARD
TZOFFSETFROM:+0800
TZOFFSETTO:+0800
DTSTART:20211118T060000
TZNAME:AWST
END:STANDARD
END:VTIMEZONE
BEGIN:VEVENT
SUMMARY:Communion Workshop
DESCRIPTION:
URL;VALUE=URI:https://www.liwara.wa.edu.au/events/communion-workshop-4/
UID:urn:uuid:accba2f4-c0f1-44f0-be16-9ff20ba8e6f1
STATUS:CONFIRMED
ORGANIZER:
DTSTAMP:20260425T004756Z
DTSTART;TZID=Australia/Perth:20220519T180000
DTEND;TZID=Australia/Perth:20220519T180000
END:VEVENT
END:VCALENDAR