BEGIN:VCALENDAR
METHOD:PUBLISH
VERSION:2.0
CALSCALE:GREGORIAN
PRODID:-//NONSGML Sandhills Development\, LLC//NONSGML Sugar Calendar Fe
 eds v3.6.1//EN
X-WR-CALNAME:Confirmation Commitment All Masses
X-WR-CALDESC:Liwara
X-WR-TIMEZONE:Australia/Perth
BEGIN:VTIMEZONE
TZID:Australia/Perth
BEGIN:STANDARD
TZOFFSETFROM:+0800
TZOFFSETTO:+0800
DTSTART:20220205T213000
TZNAME:AWST
END:STANDARD
END:VTIMEZONE
BEGIN:VTIMEZONE
TZID:Australia/Perth
BEGIN:STANDARD
TZOFFSETFROM:+0800
TZOFFSETTO:+0800
DTSTART:20220205T213000
TZNAME:AWST
END:STANDARD
END:VTIMEZONE
BEGIN:VEVENT
SUMMARY:Confirmation Commitment All Masses
DESCRIPTION:
URL;VALUE=URI:https://www.liwara.wa.edu.au/events/confirmation-commitmen
 t-all-masses-2/
UID:urn:uuid:0320957c-1a5f-410d-a605-3cf846e423ab
STATUS:CONFIRMED
ORGANIZER:
DTSTAMP:20260424T185704Z
DTSTART;TZID=Australia/Perth:20220807T093000
DTEND;TZID=Australia/Perth:20220807T093000
END:VEVENT
END:VCALENDAR