BEGIN:VCALENDAR
METHOD:PUBLISH
VERSION:2.0
CALSCALE:GREGORIAN
PRODID:-//NONSGML Sandhills Development\, LLC//NONSGML Sugar Calendar Fe
 eds v3.6.1//EN
X-WR-CALNAME:Dance Lessons / Concert: Green - 1.30pm  Red - 2.20pm
X-WR-CALDESC:Liwara
X-WR-TIMEZONE:Australia/Perth
BEGIN:VTIMEZONE
TZID:Australia/Perth
BEGIN:STANDARD
TZOFFSETFROM:+0800
TZOFFSETTO:+0800
DTSTART:20241231T120000
TZNAME:AWST
END:STANDARD
END:VTIMEZONE
BEGIN:VTIMEZONE
TZID:Australia/Perth
BEGIN:STANDARD
TZOFFSETFROM:+0800
TZOFFSETTO:+0800
DTSTART:20241231T120000
TZNAME:AWST
END:STANDARD
END:VTIMEZONE
BEGIN:VEVENT
SUMMARY:Dance Lessons / Concert: Green - 1.30pm  Red - 2.20pm
DESCRIPTION:
URL;VALUE=URI:https://www.liwara.wa.edu.au/events/dance-lessons-concert/
UID:urn:uuid:607caed3-5d17-44f7-b83d-028d2c9936ff
STATUS:CONFIRMED
ORGANIZER:
DTSTAMP:20260422T121822Z
DTSTART;VALUE=DATE:20250702
END:VEVENT
END:VCALENDAR