BEGIN:VCALENDAR
METHOD:PUBLISH
VERSION:2.0
CALSCALE:GREGORIAN
PRODID:-//NONSGML Sandhills Development\, LLC//NONSGML Sugar Calendar Fe
 eds v3.6.1//EN
X-WR-CALNAME:Day of Mourning Public Holiday
X-WR-CALDESC:Liwara
X-WR-TIMEZONE:Australia/Perth
BEGIN:VTIMEZONE
TZID:Australia/Perth
BEGIN:STANDARD
TZOFFSETFROM:+0800
TZOFFSETTO:+0800
DTSTART:20220323T120000
TZNAME:AWST
END:STANDARD
END:VTIMEZONE
BEGIN:VTIMEZONE
TZID:Australia/Perth
BEGIN:STANDARD
TZOFFSETFROM:+0800
TZOFFSETTO:+0800
DTSTART:20220323T120000
TZNAME:AWST
END:STANDARD
END:VTIMEZONE
BEGIN:VEVENT
SUMMARY:Day of Mourning Public Holiday
DESCRIPTION:
URL;VALUE=URI:https://www.liwara.wa.edu.au/events/day-of-mourning-public
 -holiday/
UID:urn:uuid:fde0b1a7-bece-4575-9090-a7f89107e2a6
STATUS:CONFIRMED
ORGANIZER:
DTSTAMP:20260423T104609Z
DTSTART;VALUE=DATE:20220922
END:VEVENT
END:VCALENDAR