BEGIN:VCALENDAR
METHOD:PUBLISH
VERSION:2.0
CALSCALE:GREGORIAN
PRODID:-//NONSGML Sandhills Development\, LLC//NONSGML Sugar Calendar Fe
 eds v3.6.1//EN
X-WR-CALNAME:End of Term Mass Year 3
X-WR-CALDESC:Liwara
X-WR-TIMEZONE:Australia/Perth
BEGIN:VTIMEZONE
TZID:Australia/Perth
BEGIN:STANDARD
TZOFFSETFROM:+0800
TZOFFSETTO:+0800
DTSTART:20220324T210000
TZNAME:AWST
END:STANDARD
END:VTIMEZONE
BEGIN:VTIMEZONE
TZID:Australia/Perth
BEGIN:STANDARD
TZOFFSETFROM:+0800
TZOFFSETTO:+0800
DTSTART:20220324T210000
TZNAME:AWST
END:STANDARD
END:VTIMEZONE
BEGIN:VEVENT
SUMMARY:End of Term Mass Year 3
DESCRIPTION:
URL;VALUE=URI:https://www.liwara.wa.edu.au/events/end-of-term-mass-year-
 3-2/
UID:urn:uuid:572deb65-2b37-4b1d-8a86-da4cd6df8de4
STATUS:CONFIRMED
ORGANIZER:
DTSTAMP:20260424T113401Z
DTSTART;TZID=Australia/Perth:20220923T090000
DTEND;TZID=Australia/Perth:20220923T090000
END:VEVENT
END:VCALENDAR