BEGIN:VCALENDAR
METHOD:PUBLISH
VERSION:2.0
CALSCALE:GREGORIAN
PRODID:-//NONSGML Sandhills Development\, LLC//NONSGML Sugar Calendar Fe
 eds v3.6.1//EN
X-WR-CALNAME:Fathers Day Breakfast
X-WR-CALDESC:Liwara
X-WR-TIMEZONE:Australia/Perth
BEGIN:VTIMEZONE
TZID:Australia/Perth
BEGIN:STANDARD
TZOFFSETFROM:+0800
TZOFFSETTO:+0800
DTSTART:20220303T193000
TZNAME:AWST
END:STANDARD
END:VTIMEZONE
BEGIN:VTIMEZONE
TZID:Australia/Perth
BEGIN:STANDARD
TZOFFSETFROM:+0800
TZOFFSETTO:+0800
DTSTART:20220303T193000
TZNAME:AWST
END:STANDARD
END:VTIMEZONE
BEGIN:VEVENT
SUMMARY:Fathers Day Breakfast
DESCRIPTION:
URL;VALUE=URI:https://www.liwara.wa.edu.au/events/fathers-day-breakfast-
 2/
UID:urn:uuid:719d311b-7683-4dca-b1e2-25fcd3a19701
STATUS:CONFIRMED
ORGANIZER:
DTSTAMP:20260424T142146Z
DTSTART;TZID=Australia/Perth:20220902T073000
DTEND;TZID=Australia/Perth:20220902T073000
END:VEVENT
END:VCALENDAR