BEGIN:VCALENDAR
METHOD:PUBLISH
VERSION:2.0
CALSCALE:GREGORIAN
PRODID:-//NONSGML Sandhills Development\, LLC//NONSGML Sugar Calendar Fe
 eds v3.6.1//EN
X-WR-CALNAME:First Day Term 3
X-WR-CALDESC:Liwara
X-WR-TIMEZONE:Australia/Perth
BEGIN:VTIMEZONE
TZID:Australia/Perth
BEGIN:STANDARD
TZOFFSETFROM:+0800
TZOFFSETTO:+0800
DTSTART:20220117T120000
TZNAME:AWST
END:STANDARD
END:VTIMEZONE
BEGIN:VTIMEZONE
TZID:Australia/Perth
BEGIN:STANDARD
TZOFFSETFROM:+0800
TZOFFSETTO:+0800
DTSTART:20220117T120000
TZNAME:AWST
END:STANDARD
END:VTIMEZONE
BEGIN:VEVENT
SUMMARY:First Day Term 3
DESCRIPTION:
URL;VALUE=URI:https://www.liwara.wa.edu.au/events/first-day-term-3/
UID:urn:uuid:527d2ee1-f618-4a43-887d-768a4e3f96f0
STATUS:CONFIRMED
ORGANIZER:
DTSTAMP:20260424T213444Z
DTSTART;VALUE=DATE:20220719
END:VEVENT
END:VCALENDAR