BEGIN:VCALENDAR
METHOD:PUBLISH
VERSION:2.0
CALSCALE:GREGORIAN
PRODID:-//NONSGML Sandhills Development\, LLC//NONSGML Sugar Calendar Fe
 eds v3.6.1//EN
X-WR-CALNAME:Good Friday
X-WR-CALDESC:Liwara
X-WR-TIMEZONE:Australia/Perth
BEGIN:VTIMEZONE
TZID:Australia/Perth
BEGIN:STANDARD
TZOFFSETFROM:+0800
TZOFFSETTO:+0800
DTSTART:20221006T120000
TZNAME:AWST
END:STANDARD
END:VTIMEZONE
BEGIN:VTIMEZONE
TZID:Australia/Perth
BEGIN:STANDARD
TZOFFSETFROM:+0800
TZOFFSETTO:+0800
DTSTART:20221006T120000
TZNAME:AWST
END:STANDARD
END:VTIMEZONE
BEGIN:VEVENT
SUMMARY:Good Friday
DESCRIPTION:
URL;VALUE=URI:https://www.liwara.wa.edu.au/events/good-friday-4/
UID:urn:uuid:c46b1e15-5b92-4084-8dc8-9be7e22c778d
STATUS:CONFIRMED
ORGANIZER:
DTSTAMP:20260422T122454Z
DTSTART;TZID=Australia/Perth:20230407T000000
DTEND;TZID=Australia/Perth:20230407T000000
END:VEVENT
END:VCALENDAR