BEGIN:VCALENDAR
METHOD:PUBLISH
VERSION:2.0
CALSCALE:GREGORIAN
PRODID:-//NONSGML Sandhills Development\, LLC//NONSGML Sugar Calendar Fe
 eds v3.6.1//EN
X-WR-CALNAME:Interschool Spring Carnival
X-WR-CALDESC:Liwara
X-WR-TIMEZONE:Australia/Perth
BEGIN:VTIMEZONE
TZID:Australia/Perth
BEGIN:STANDARD
TZOFFSETFROM:+0800
TZOFFSETTO:+0800
DTSTART:20220224T120000
TZNAME:AWST
END:STANDARD
END:VTIMEZONE
BEGIN:VTIMEZONE
TZID:Australia/Perth
BEGIN:STANDARD
TZOFFSETFROM:+0800
TZOFFSETTO:+0800
DTSTART:20220224T120000
TZNAME:AWST
END:STANDARD
END:VTIMEZONE
BEGIN:VEVENT
SUMMARY:Interschool Spring Carnival
DESCRIPTION:
URL;VALUE=URI:https://www.liwara.wa.edu.au/events/interschool-spring-car
 nival/
UID:urn:uuid:83b535bd-72a5-40a7-9a83-e897ec04f02c
STATUS:CONFIRMED
ORGANIZER:
DTSTAMP:20260424T154851Z
DTSTART;VALUE=DATE:20220826
END:VEVENT
END:VCALENDAR