BEGIN:VCALENDAR
METHOD:PUBLISH
VERSION:2.0
CALSCALE:GREGORIAN
PRODID:-//NONSGML Sandhills Development\, LLC//NONSGML Sugar Calendar Fe
 eds v3.6.1//EN
X-WR-CALNAME:Last Day of Term 3
X-WR-CALDESC:Liwara
X-WR-TIMEZONE:Australia/Perth
BEGIN:VTIMEZONE
TZID:Australia/Perth
BEGIN:STANDARD
TZOFFSETFROM:+0800
TZOFFSETTO:+0800
DTSTART:20220324T120000
TZNAME:AWST
END:STANDARD
END:VTIMEZONE
BEGIN:VTIMEZONE
TZID:Australia/Perth
BEGIN:STANDARD
TZOFFSETFROM:+0800
TZOFFSETTO:+0800
DTSTART:20220324T120000
TZNAME:AWST
END:STANDARD
END:VTIMEZONE
BEGIN:VEVENT
SUMMARY:Last Day of Term 3
DESCRIPTION:
URL;VALUE=URI:https://www.liwara.wa.edu.au/events/last-day-of-term-3/
UID:urn:uuid:71c3f712-06c4-445d-af82-8ecc073e31ef
STATUS:CONFIRMED
ORGANIZER:
DTSTAMP:20260424T113400Z
DTSTART;VALUE=DATE:20220923
END:VEVENT
END:VCALENDAR