BEGIN:VCALENDAR
METHOD:PUBLISH
VERSION:2.0
CALSCALE:GREGORIAN
PRODID:-//NONSGML Sandhills Development\, LLC//NONSGML Sugar Calendar Fe
 eds v3.6.1//EN
X-WR-CALNAME:Last Day Term 2
X-WR-CALDESC:Liwara
X-WR-TIMEZONE:Australia/Perth
BEGIN:VTIMEZONE
TZID:Australia/Perth
BEGIN:STANDARD
TZOFFSETFROM:+0800
TZOFFSETTO:+0800
DTSTART:20211228T120000
TZNAME:AWST
END:STANDARD
END:VTIMEZONE
BEGIN:VTIMEZONE
TZID:Australia/Perth
BEGIN:STANDARD
TZOFFSETFROM:+0800
TZOFFSETTO:+0800
DTSTART:20211228T120000
TZNAME:AWST
END:STANDARD
END:VTIMEZONE
BEGIN:VEVENT
SUMMARY:Last Day Term 2
DESCRIPTION:
URL;VALUE=URI:https://www.liwara.wa.edu.au/events/last-day-term-2-3/
UID:urn:uuid:72578b04-f703-4833-b7e4-7dcef0ea77ca
STATUS:CONFIRMED
ORGANIZER:
DTSTAMP:20260424T213157Z
DTSTART;VALUE=DATE:20220629
END:VEVENT
END:VCALENDAR