BEGIN:VCALENDAR
METHOD:PUBLISH
VERSION:2.0
CALSCALE:GREGORIAN
PRODID:-//NONSGML Sandhills Development\, LLC//NONSGML Sugar Calendar Fe
 eds v3.6.1//EN
X-WR-CALNAME:Mother's Day Breakfast
X-WR-CALDESC:Liwara
X-WR-TIMEZONE:Australia/Perth
BEGIN:VTIMEZONE
TZID:Australia/Perth
BEGIN:STANDARD
TZOFFSETFROM:+0800
TZOFFSETTO:+0800
DTSTART:20211109T193000
TZNAME:AWST
END:STANDARD
END:VTIMEZONE
BEGIN:VTIMEZONE
TZID:Australia/Perth
BEGIN:STANDARD
TZOFFSETFROM:+0800
TZOFFSETTO:+0800
DTSTART:20211109T193000
TZNAME:AWST
END:STANDARD
END:VTIMEZONE
BEGIN:VEVENT
SUMMARY:Mother's Day Breakfast
DESCRIPTION:
URL;VALUE=URI:https://www.liwara.wa.edu.au/events/mothers-day-breakfast/
UID:urn:uuid:754c586b-634d-43d1-8ac9-d283740a6cbf
STATUS:CONFIRMED
ORGANIZER:
DTSTAMP:20260425T015848Z
DTSTART;TZID=Australia/Perth:20220511T073000
DTEND;TZID=Australia/Perth:20220511T083000
END:VEVENT
END:VCALENDAR