BEGIN:VCALENDAR
METHOD:PUBLISH
VERSION:2.0
CALSCALE:GREGORIAN
PRODID:-//NONSGML Sandhills Development\, LLC//NONSGML Sugar Calendar Fe
 eds v3.6.1//EN
X-WR-CALNAME:Music Performance Assembly
X-WR-CALDESC:Liwara
X-WR-TIMEZONE:Australia/Perth
BEGIN:VTIMEZONE
TZID:Australia/Perth
BEGIN:STANDARD
TZOFFSETFROM:+0800
TZOFFSETTO:+0800
DTSTART:20220225T022000
TZNAME:AWST
END:STANDARD
END:VTIMEZONE
BEGIN:VTIMEZONE
TZID:Australia/Perth
BEGIN:STANDARD
TZOFFSETFROM:+0800
TZOFFSETTO:+0800
DTSTART:20220225T022000
TZNAME:AWST
END:STANDARD
END:VTIMEZONE
BEGIN:VEVENT
SUMMARY:Music Performance Assembly
DESCRIPTION:
URL;VALUE=URI:https://www.liwara.wa.edu.au/events/music-performance-asse
 mbly-6/
UID:urn:uuid:952e6fa0-d576-461c-be34-4852a07ad463
STATUS:CONFIRMED
ORGANIZER:
DTSTAMP:20260424T155204Z
DTSTART;TZID=Australia/Perth:20220826T142000
DTEND;TZID=Australia/Perth:20220826T142000
END:VEVENT
END:VCALENDAR