BEGIN:VCALENDAR
METHOD:PUBLISH
VERSION:2.0
CALSCALE:GREGORIAN
PRODID:-//NONSGML Sandhills Development\, LLC//NONSGML Sugar Calendar Fe
 eds v3.6.1//EN
X-WR-CALNAME:P & F Colour Run - Kindy
X-WR-CALDESC:Liwara
X-WR-TIMEZONE:Australia/Perth
BEGIN:VTIMEZONE
TZID:Australia/Perth
BEGIN:STANDARD
TZOFFSETFROM:+0800
TZOFFSETTO:+0800
DTSTART:20220321T021500
TZNAME:AWST
END:STANDARD
END:VTIMEZONE
BEGIN:VTIMEZONE
TZID:Australia/Perth
BEGIN:STANDARD
TZOFFSETFROM:+0800
TZOFFSETTO:+0800
DTSTART:20220321T021500
TZNAME:AWST
END:STANDARD
END:VTIMEZONE
BEGIN:VEVENT
SUMMARY:P & F Colour Run - Kindy
DESCRIPTION:
URL;VALUE=URI:https://www.liwara.wa.edu.au/events/p-f-colour-run-kindy/
UID:urn:uuid:3b11a789-2c46-48f2-b67e-03745987e4fa
STATUS:CONFIRMED
ORGANIZER:
DTSTAMP:20260424T131030Z
DTSTART;TZID=Australia/Perth:20220919T141500
DTEND;TZID=Australia/Perth:20220919T141500
END:VEVENT
END:VCALENDAR