BEGIN:VCALENDAR
METHOD:PUBLISH
VERSION:2.0
CALSCALE:GREGORIAN
PRODID:-//NONSGML Sandhills Development\, LLC//NONSGML Sugar Calendar Fe
 eds v3.6.1//EN
X-WR-CALNAME:Parish Mass Yr5
X-WR-CALDESC:Liwara
X-WR-TIMEZONE:Australia/Perth
BEGIN:VTIMEZONE
TZID:Australia/Perth
BEGIN:STANDARD
TZOFFSETFROM:+0800
TZOFFSETTO:+0800
DTSTART:20220206T210000
TZNAME:AWST
END:STANDARD
END:VTIMEZONE
BEGIN:VTIMEZONE
TZID:Australia/Perth
BEGIN:STANDARD
TZOFFSETFROM:+0800
TZOFFSETTO:+0800
DTSTART:20220206T210000
TZNAME:AWST
END:STANDARD
END:VTIMEZONE
BEGIN:VEVENT
SUMMARY:Parish Mass Yr5
DESCRIPTION:
URL;VALUE=URI:https://www.liwara.wa.edu.au/events/parish-mass-yr5-2/
UID:urn:uuid:ad89a44b-b891-4c83-8387-7a1735751b42
STATUS:CONFIRMED
ORGANIZER:
DTSTAMP:20260424T190254Z
DTSTART;TZID=Australia/Perth:20220808T090000
DTEND;TZID=Australia/Perth:20220808T090000
END:VEVENT
END:VCALENDAR