BEGIN:VCALENDAR
METHOD:PUBLISH
VERSION:2.0
CALSCALE:GREGORIAN
PRODID:-//NONSGML Sandhills Development\, LLC//NONSGML Sugar Calendar Fe
 eds v3.6.1//EN
X-WR-CALNAME:P&F Colour Run - PP to YR6
X-WR-CALDESC:Liwara
X-WR-TIMEZONE:Australia/Perth
BEGIN:VTIMEZONE
TZID:Australia/Perth
BEGIN:STANDARD
TZOFFSETFROM:+0800
TZOFFSETTO:+0800
DTSTART:20220325T022000
TZNAME:AWST
END:STANDARD
END:VTIMEZONE
BEGIN:VTIMEZONE
TZID:Australia/Perth
BEGIN:STANDARD
TZOFFSETFROM:+0800
TZOFFSETTO:+0800
DTSTART:20220325T022000
TZNAME:AWST
END:STANDARD
END:VTIMEZONE
BEGIN:VEVENT
SUMMARY:P&F Colour Run - PP to YR6
DESCRIPTION:
URL;VALUE=URI:https://www.liwara.wa.edu.au/events/pf-colour-run/
UID:urn:uuid:bdf6cda3-fcd7-4dba-8023-9c3ff158d31d
STATUS:CONFIRMED
ORGANIZER:
DTSTAMP:20260424T112912Z
DTSTART;TZID=Australia/Perth:20220923T142000
DTEND;TZID=Australia/Perth:20220923T142000
END:VEVENT
END:VCALENDAR