BEGIN:VCALENDAR
METHOD:PUBLISH
VERSION:2.0
CALSCALE:GREGORIAN
PRODID:-//NONSGML Sandhills Development\, LLC//NONSGML Sugar Calendar Fe
 eds v3.6.1//EN
X-WR-CALNAME:PP Nativity - School
X-WR-CALDESC:Liwara
X-WR-TIMEZONE:Australia/Perth
BEGIN:VTIMEZONE
TZID:Australia/Perth
BEGIN:STANDARD
TZOFFSETFROM:+0800
TZOFFSETTO:+0800
DTSTART:20240523T210000
TZNAME:AWST
END:STANDARD
END:VTIMEZONE
BEGIN:VTIMEZONE
TZID:Australia/Perth
BEGIN:STANDARD
TZOFFSETFROM:+0800
TZOFFSETTO:+0800
DTSTART:20240523T210000
TZNAME:AWST
END:STANDARD
END:VTIMEZONE
BEGIN:VEVENT
SUMMARY:PP Nativity - School
DESCRIPTION:
URL;VALUE=URI:https://www.liwara.wa.edu.au/events/pp-nativity-tbc/
UID:urn:uuid:1970ddce-eaf9-4550-9111-e87fbc5ac3e8
STATUS:CONFIRMED
ORGANIZER:
DTSTAMP:20260422T121822Z
DTSTART;TZID=Australia/Perth:20241122T090000
DTEND;TZID=Australia/Perth:20241122T090000
END:VEVENT
END:VCALENDAR