BEGIN:VCALENDAR
METHOD:PUBLISH
VERSION:2.0
CALSCALE:GREGORIAN
PRODID:-//NONSGML Sandhills Development\, LLC//NONSGML Sugar Calendar Fe
 eds v3.6.1//EN
X-WR-CALNAME:Reconciliation Certificate All Mass
X-WR-CALDESC:Liwara
X-WR-TIMEZONE:Australia/Perth
BEGIN:VTIMEZONE
TZID:Australia/Perth
BEGIN:STANDARD
TZOFFSETFROM:+0800
TZOFFSETTO:+0800
DTSTART:20220226T213000
TZNAME:AWST
END:STANDARD
END:VTIMEZONE
BEGIN:VTIMEZONE
TZID:Australia/Perth
BEGIN:STANDARD
TZOFFSETFROM:+0800
TZOFFSETTO:+0800
DTSTART:20220226T213000
TZNAME:AWST
END:STANDARD
END:VTIMEZONE
BEGIN:VEVENT
SUMMARY:Reconciliation Certificate All Mass
DESCRIPTION:
URL;VALUE=URI:https://www.liwara.wa.edu.au/events/reconciliation-certifi
 cate-all-mass/
UID:urn:uuid:40b88a75-6bf8-4b9e-8c47-520c504fc945
STATUS:CONFIRMED
ORGANIZER:
DTSTAMP:20260424T155647Z
DTSTART;TZID=Australia/Perth:20220828T093000
DTEND;TZID=Australia/Perth:20220828T093000
END:VEVENT
END:VCALENDAR