BEGIN:VCALENDAR
METHOD:PUBLISH
VERSION:2.0
CALSCALE:GREGORIAN
PRODID:-//NONSGML Sandhills Development\, LLC//NONSGML Sugar Calendar Fe
 eds v3.6.1//EN
X-WR-CALNAME:Reconciliation Certificate Mass
X-WR-CALDESC:Liwara
X-WR-TIMEZONE:Australia/Perth
BEGIN:VTIMEZONE
TZID:Australia/Perth
BEGIN:STANDARD
TZOFFSETFROM:+0800
TZOFFSETTO:+0800
DTSTART:20220226T060000
TZNAME:AWST
END:STANDARD
END:VTIMEZONE
BEGIN:VTIMEZONE
TZID:Australia/Perth
BEGIN:STANDARD
TZOFFSETFROM:+0800
TZOFFSETTO:+0800
DTSTART:20220226T060000
TZNAME:AWST
END:STANDARD
END:VTIMEZONE
BEGIN:VEVENT
SUMMARY:Reconciliation Certificate Mass
DESCRIPTION:
URL;VALUE=URI:https://www.liwara.wa.edu.au/events/reconciliation-certifi
 cate-mass-9/
UID:urn:uuid:11cd9fda-2c3d-497f-a0f4-60467ff85d4e
STATUS:CONFIRMED
ORGANIZER:
DTSTAMP:20260424T153156Z
DTSTART;TZID=Australia/Perth:20220827T180000
DTEND;TZID=Australia/Perth:20220827T180000
END:VEVENT
END:VCALENDAR