BEGIN:VCALENDAR
METHOD:PUBLISH
VERSION:2.0
CALSCALE:GREGORIAN
PRODID:-//NONSGML Sandhills Development\, LLC//NONSGML Sugar Calendar Fe
 eds v3.6.1//EN
X-WR-CALNAME:School Advisory Council
X-WR-CALDESC:Liwara
X-WR-TIMEZONE:Australia/Perth
BEGIN:VTIMEZONE
TZID:Australia/Perth
BEGIN:STANDARD
TZOFFSETFROM:+0800
TZOFFSETTO:+0800
DTSTART:20220222T053000
TZNAME:AWST
END:STANDARD
END:VTIMEZONE
BEGIN:VTIMEZONE
TZID:Australia/Perth
BEGIN:STANDARD
TZOFFSETFROM:+0800
TZOFFSETTO:+0800
DTSTART:20220222T053000
TZNAME:AWST
END:STANDARD
END:VTIMEZONE
BEGIN:VEVENT
SUMMARY:School Advisory Council
DESCRIPTION:
URL;VALUE=URI:https://www.liwara.wa.edu.au/events/school-advisory-counci
 l/
UID:urn:uuid:2e5f4841-cbbe-4df4-a13c-8ad1f79c1ad5
STATUS:CONFIRMED
ORGANIZER:
DTSTAMP:20260424T155209Z
DTSTART;TZID=Australia/Perth:20220823T173000
DTEND;TZID=Australia/Perth:20220823T173000
END:VEVENT
END:VCALENDAR