BEGIN:VCALENDAR
METHOD:PUBLISH
VERSION:2.0
CALSCALE:GREGORIAN
PRODID:-//NONSGML Sandhills Development\, LLC//NONSGML Sugar Calendar Fe
 eds v3.6.1//EN
X-WR-CALNAME:Week 7
X-WR-CALDESC:Liwara
X-WR-TIMEZONE:Australia/Perth
BEGIN:VTIMEZONE
TZID:Australia/Perth
BEGIN:STANDARD
TZOFFSETFROM:+0800
TZOFFSETTO:+0800
DTSTART:20220227T120000
TZNAME:AWST
END:STANDARD
END:VTIMEZONE
BEGIN:VTIMEZONE
TZID:Australia/Perth
BEGIN:STANDARD
TZOFFSETFROM:+0800
TZOFFSETTO:+0800
DTSTART:20220227T120000
TZNAME:AWST
END:STANDARD
END:VTIMEZONE
BEGIN:VEVENT
SUMMARY:Week 7
DESCRIPTION:
URL;VALUE=URI:https://www.liwara.wa.edu.au/events/week-7/
UID:urn:uuid:3b69284f-b0f3-4641-ab15-255481536801
STATUS:CONFIRMED
ORGANIZER:
DTSTAMP:20260424T154820Z
DTSTART;VALUE=DATE:20220829
END:VEVENT
END:VCALENDAR