BEGIN:VCALENDAR
METHOD:PUBLISH
VERSION:2.0
CALSCALE:GREGORIAN
PRODID:-//NONSGML Sandhills Development\, LLC//NONSGML Sugar Calendar Fe
 eds v3.6.1//EN
X-WR-CALNAME:Western Australia Day Public Holiday
X-WR-CALDESC:Liwara
X-WR-TIMEZONE:Australia/Perth
BEGIN:VTIMEZONE
TZID:Australia/Perth
BEGIN:STANDARD
TZOFFSETFROM:+0800
TZOFFSETTO:+0800
DTSTART:20221204T120000
TZNAME:AWST
END:STANDARD
END:VTIMEZONE
BEGIN:VTIMEZONE
TZID:Australia/Perth
BEGIN:STANDARD
TZOFFSETFROM:+0800
TZOFFSETTO:+0800
DTSTART:20221204T120000
TZNAME:AWST
END:STANDARD
END:VTIMEZONE
BEGIN:VEVENT
SUMMARY:Western Australia Day Public Holiday
DESCRIPTION:
URL;VALUE=URI:https://www.liwara.wa.edu.au/events/western-australia-day-
 public-holiday-2/
UID:urn:uuid:41db55a4-fa50-467d-b10e-84a2c8c3c877
STATUS:CONFIRMED
ORGANIZER:
DTSTAMP:20260420T152622Z
DTSTART;TZID=Australia/Perth:20230605T000000
DTEND;TZID=Australia/Perth:20230605T000000
END:VEVENT
END:VCALENDAR