BEGIN:VCALENDAR
METHOD:PUBLISH
VERSION:2.0
CALSCALE:GREGORIAN
PRODID:-//NONSGML Sandhills Development\, LLC//NONSGML Sugar Calendar Fe
 eds v3.6.1//EN
X-WR-CALNAME:Western Australia Day Public Holiday
X-WR-CALDESC:Liwara
X-WR-TIMEZONE:Australia/Perth
BEGIN:VTIMEZONE
TZID:Australia/Perth
BEGIN:STANDARD
TZOFFSETFROM:+0800
TZOFFSETTO:+0800
DTSTART:20211205T120000
TZNAME:AWST
END:STANDARD
END:VTIMEZONE
BEGIN:VTIMEZONE
TZID:Australia/Perth
BEGIN:STANDARD
TZOFFSETFROM:+0800
TZOFFSETTO:+0800
DTSTART:20211205T120000
TZNAME:AWST
END:STANDARD
END:VTIMEZONE
BEGIN:VEVENT
SUMMARY:Western Australia Day Public Holiday
DESCRIPTION:
URL;VALUE=URI:https://www.liwara.wa.edu.au/events/western-australia-day-
 public-holiday/
UID:urn:uuid:90c10403-c2b4-4543-aadd-555d7c6980a7
STATUS:CONFIRMED
ORGANIZER:
DTSTAMP:20260425T005216Z
DTSTART;VALUE=DATE:20220606
END:VEVENT
END:VCALENDAR